Workbook

Sheet L1
G1: 2026-2027 | J1: L1 Géo | L1: 3 groupes de TD
L2: effectif total de la promo : 120
L3: effectif d'un groupe de TD : 40
F7: TOTAL UE prés. | H7: Nombre de gpe TD | M7: 3 | O7: x3
B8: UE | C8: CODE | D8: L1 (semestre 1) | E8: TOTAL UE ETD | G8: intervenant | I8: CC | J8: heures ETD | K8: heures présentiel | L8: CM | M8: TD total | N8: TD | O8: terrain | P8: terrain | Q8: SALLE SPECIFIQUE | R8: Info et remarques
A9: L1 | B9: UE1 | C9: GE1ECUE1.1 | D9: Géographie Changements globaux impacts locaux | E9: =SUM(J9:J10) -> 30 | F9: =K9 -> 20 | G9: LE DUFF | J9: =(L9*1.5)+M9 -> 30 | K9: =L9+M9 -> 20 | L9: 20 | M9: =N9*1 -> 0 | O9: 0
J10: =(L10*1.5)+M10 -> 0 | K10: =L10+M10 -> 0 | M10: =N10*M7 -> 0 | N10: 0 | O10: 0
G11: LE DUFF | J11: =(L11*1.5)+M11 -> 57 | K11: =L11+M11 -> 57 | M11: =N11*3 -> 57 | N11: 19
C12: GE1ECUE1.2 | D12: Outils et fondements de l'analyse territoriale 1 | E12: =SUM(J12:J15) -> 79.5 | F12: =SUM(K12:K15) -> 67 | G12: JACQUES | J12: =(L12*1.5)+M12 -> 27 | K12: =L12+M12 -> 22 | L12: 10 | M12: =N12*$M$7 -> 12 | N12: 4 | O12: 0 | R12: partie cartographie
G13: AUBRY | J13: =(L13*1.5)+M13 -> 22.5 | K13: =L13+M13 -> 15 | L13: 15 | M13: =N13*$M$7 -> 0 | O13: 0 | R13: CM paysages
G14: ATER | J14: =(L14*1.5)+M14 -> 30 | K14: =L14+M14 -> 30 | M14: =N14*$M$7 -> 30 | N14: 10 | O14: 0 | R14: TD paysages
M15: =N15*$M$7 -> 0 | O15: 0
C16: GE1ECUE 1.3 | D16: Géomorphologie dynamique (Géographie thématique de l'eau) | E16: =SUM(J16:J19) -> 87.75 | F16: =SUM(K16:K19) -> 78 | G16: MCF CORTEZZI | J16: =L16*1.5 -> 29.25 | K16: =L16+M16 -> 19.5 | L16: 19.5 | O16: 0
G17: MCF CORTEZZI | J17: =M17 -> 19.5 | K17: =L17+M17 -> 19.5 | M17: =N17 -> 19.5 | N17: 19.5 | O17: 0 | Q17: info 3 | R17: besoin salle info et CDU pour certains TD
G18: MCF CORTEZZI | J18: =M18 -> 19.5 | K18: =L18+M18 -> 19.5 | M18: =N18 -> 19.5 | N18: 19.5 | O18: 0 | Q18: info 3 | R18: besoin salle info et CDU pour certains TD
G19: MCF CORTEZZI | J19: =M19 -> 19.5 | K19: =L19+M19 -> 19.5 | M19: =N19 -> 19.5 | N19: 19.5 | O19: 0 | Q19: info 3 | R19: besoin salle info et CDU pour certains TD
C20: GE1ECUE1.4 | D20: Géographie de la France | E20: =J20 -> 87.75 | F20: =K20 -> 78 | G20: JACQUES | J20: =(L20*1.5)+M20 -> 87.75 | K20: =L20+M20 -> 78 | L20: 19.5 | M20: =N20*$M$7 -> 58.5 | N20: 19.5 | O20: 0
B21: UE 2 | C21: GE2ECUE2.1 | D21: Informatique | E21: =J21 -> 36 | F21: =K21 -> 36 | G21: ATER | J21: =(L21*1.5)+M21 -> 36 | K21: =L21+M21 -> 36 | L21: 0 | M21: =N21*$M$7 -> 36 | N21: 12 | O21: 0 | Q21: info 3
C22: GE2ECUE2.2 | D22: LV Majeur Anglais | E22: =J22 -> 36 | F22: =K22 -> 36 | G22: OMAR FOUNDI Surfahati | J22: =(L22*1.5)+M22 -> 36 | K22: =L22+M22 -> 36 | M22: =N22*$M$7 -> 36 | N22: 12 | O22: 0
C23: GE2ECUE 2.3 | D23: Méthodologie du travail universitaire, cartable numérique | E23: =J23 -> 18 | F23: =K23 -> 18 | G23: AUBRY | J23: =(L23*1.5)+M23 -> 18 | K23: =L23+M23 -> 18 | M23: =N23*$M$7 -> 18 | N23: 6 | O23: 0 | Q23: info 3 | R23: 1) webmails, Moodle salle info, 2) biblio, recherche CDU, plagiat, sources salle info, 3) commenter un graph, un tableau
C24: GE2ECUE3.1 | D24: LV Mineure (expression ecrite) | E24: =J24 -> 54 | F24: =K24 -> 54 | G24: Cécile Aspart | J24: =(L24*1.5)+M24 -> 54 | K24: =L24+M24 -> 54 | L24: 0 | M24: =N24*$M$7 -> 54 | N24: 18 | O24: 0
B25: UE3 | C25: GE2EUCUE3.2 | D25: Introduction à l'histoire 1 (historiographie et médiéval ?) | E25: =J25 -> 39 | F25: =K25 -> 34 | G25: THILLE | J25: =(L25*1.5)+M25 -> 39 | K25: =L25+M25 -> 34 | L25: 10 | M25: =N25*$M$7 -> 24 | N25: 8 | O25: 0
J26: =SUM(J9:J25) -> 525 | K26: =SUM(K9:K25) -> 478 | L26: =SUM(L9:L25) -> 94 | M26: =SUM(M9:M25) -> 384 | N26: =SUM(N9:N25) -> 167
B29: UE | C29: CODE | D29: L1 (semestre 2) | E29: TOTAL UE ETD | F29: TOTAL UE prés. | G29: intervenant | I29: CC | J29: heures ETD | K29: heures présentiel | L29: CM | M29: TD total | N29: TD | O29: terrain | P29: terrain | Q29: SALLE SPECIFIQUE
B30: UE4 | C30: GE2ECUE4.1 | D30: Dynamiques spatiales et environnementales | E30: =J30+J31 -> 87 | F30: =K30+K31 -> 77 | G30: JEANSON | J30: =(L30*1.5)+M30 -> 30 | K30: =L30+M30 -> 20 | L30: 20 | M30: =N30*$M$7 -> 0 | N30: 0 | O30: 0
G31: JEANSON | J31: =(L31*1.5)+M31 -> 57 | K31: =L31+M31 -> 57 | M31: =N31*$M$7 -> 57 | N31: 19 | O31: 0
C32: GE2ECUE 4.2 | D32: Outils et fondements de l'analyse territoriale 2 | E32: =J32+J33+J36 -> 201 | F32: =K32+K33+K36 -> 196 | G32: JACQUES | J32: =(L32*1.5)+M32 -> 75 | K32: =L32+M32 -> 70 | L32: 10 | M32: =N32*$M$7 -> 60 | N32: 20 | O32: 0 | R32: partie carto
G33: ATER | J33: =(L33*1.5)+M33 -> 90 | K33: =L33+M33 -> 90 | M33: =N33*$M$7 -> 90 | N33: 30 | O33: 0 | Q33: info 3 | R33: partie statistiques salle info 3
J34: =(L34*1.5)+M34 -> 0 | K34: =L34+M34 -> 0 | M34: =N34*$M$7 -> 0 | N34: 0
G35: JACQUES | J35: =(L35*1.5)+M35 -> 18 | K35: =L35+M35 -> 18 | M35: =N35 -> 18 | N35: 18 | R35: TD paysage
G36: ATER | J36: =(L36*1.5)+M36 -> 36 | K36: =L36+M36 -> 36 | M36: =N36*2 -> 36 | N36: 18 | O36: 0 | R36: TD paysage
C37: GE2ECUE 4.3 | D37: Genèse et enjeux de l'Aménagement du territoire | E37: =J37+J38 -> 87.75 | F37: =K37+K38 -> 78 | G37: THILLE | J37: =(L37*1.5)+M37 -> 29.25 | K37: =L37+M37 -> 19.5 | L37: 19.5 | M37: =N37*$M$7 -> 0 | O37: 0
G38: THILLE | J38: =(L38*1.5)+M38 -> 58.5 | K38: =L38+M38 -> 58.5 | M38: =N38*3 -> 58.5 | N38: 19.5 | O38: 0
O39: 0
B40: UE5 | C40: GE2ECUE 5.1 | D40: Informatique | G40: SAID Ayad | J40: =(L40*1.5)+M40 -> 54 | K40: =L40+M40 -> 54 | M40: =N40*$M$7 -> 54 | N40: 18 | O40: 0 | Q40: info 3 | R40: salle info 3
C41: GE2ECUE 5.2 | D41: LV Majeure : d'anglais | E41: =J41 -> 54 | F41: =K41 -> 54 | G41: OMAR FOUNDI Surfahati | J41: =(L41*1.5)+M41 -> 54 | K41: =L41+M41 -> 54 | M41: =N41*$M$7 -> 54 | N41: 18 | O41: 0
C42: GE2ECUE 5.3 | D42: Méthodologie du travail universitaire | E42: =J42 -> 18 | F42: =K42 -> 18 | G42: LE DUFF | J42: =(L42*1.5)+M42 -> 18 | K42: =L42+M42 -> 18 | M42: =N42*$M$7 -> 18 | N42: 6 | O42: 0 | R42: méthodologie d'un dossier, rédaction ? biblio ?
R43: méthodologie d'un dossier, rédaction ? biblio ?
B44: UE6 | C44: GE2ECUE6.1 | D44: LV mineure (expression écrite) | E44: =J44 -> 54 | F44: =K44 -> 54 | G44: Cécile Aspart | J44: =(L44*1.5)+M44 -> 54 | K44: =L44+M44 -> 54 | M44: =N44*$M$7 -> 54 | N44: 18 | O44: 0
D45: Introduction à l’Histoire 2 (Les relations internationales de 1945 à 1991 ?) | E45: =J45 -> 39 | F45: =K45 -> 34 | G45: THILLE | J45: =(L45*1.5)+M45 -> 39 | K45: =L45+M45 -> 34 | L45: 10 | M45: =N45*$M$7 -> 24 | N45: 8 | O45: 0
C46: GE2ECUE 6.2
J47: =SUM(J30:J45) -> 612.75 | K47: =SUM(K30:K45) -> 583 | L47: =SUM(L30:L45) -> 59.5 | M47: =SUM(M30:M45) -> 523.5 | N47: =SUM(N30:N45) -> 192.5

Sheet L2
A1: Géo - semestre 3 et 4 | G1: 2026-2027 | J1: L2 Géo | L1: 1 groupe de TD
L2: effectif total de la promo : 40
L3: effectif d'un groupe de TD : 40
F7: TOTAL UE prés. | J7: Nombre de gpe de TD | M7: 1
B8: UE | C8: CODE | D8: L2 (semestre 3) | E8: TOTAL UE ETD | G8: intervenant | I8: CC | J8: heures ETD | K8: heures présentiel | L8: CM | M8: TD total | N8: TD | O8: terrain | P8: terrain | Q8: SALLE SPECIFIQUE
A9: L2 | B9: UE1 | C9: GE3ECUE1.1 | D9: Géographie urbaine | E9: =J9+J10 -> 50 | F9: =K9+K10 -> 39 | G9: JACQUES | J9: =(L9*1.5)+M9 -> 33 | K9: =M9+L9 -> 22 | L9: 22 | M9: =N9*$M$7 -> 0 | O9: 0
G10: JACQUES | J10: =(L10*1.5)+M10 -> 17 | K10: =M10+L10 -> 17 | L10: 0 | M10: =N10*$M$7 -> 17 | N10: 17 | O10: 0
C11: GE3ECUE1.2 | D11: Géo de la pop et de la santée (= Les îles et sociétés du SO de l'OI) | E11: =J11 -> 50 | F11: =K11 -> 39 | G11: LE DUFF | J11: =(L11*1.5)+M11 -> 50 | K11: =M11+L11 -> 39 | L11: 22 | M11: =N11*$M$7 -> 17 | N11: 17 | O11: 0
C12: GE3ECUE1.3 | D12: Géographie des climats | E12: =J12 -> 50 | F12: =K12 -> 39 | G12: JEANSON | J12: =(L12*1.5)+M12 -> 50 | K12: =M12+L12 -> 39 | L12: 22 | M12: =N12*$M$7 -> 17 | N12: 17 | O12: 0
C13: GE3ECUE 1.4 | D13: Cartographie et SIG niveau 1 | E13: =J13+J14 -> 58 | F13: =K13+K14 -> 52 | G13: AUBRY | J13: =(L13*1.5)+M13 -> 38 | K13: =M13+L13 -> 32 | L13: 12 | M13: =N13*$M$7 -> 20 | N13: 20 | Q13: info | R13: 5 séance de 2h en salle normale et 2 derniers TD de 3h en salle info
G14: COTTEREAU | J14: =(L14*1.5)+M14 -> 20 | K14: =M14+L14 -> 20 | M14: =N14*$M$7 -> 20 | N14: 20 | Q14: info | R14: DAO (Inkscape, carto) salle info
B15: UE2 | C15: GE3ECUE2.1 | D15: Dynamique des milieux naturels | E15: =J15+J16+J17 -> 46 | F15: =K15+K16+K17 -> 36 | G15: AUBRY | J15: =(L15*1.5)+M15 -> 30 | K15: =M15+L15 -> 20 | L15: 20 | M15: =N15*$M$7 -> 0 | O15: 0
G16: MCF CORTEZZI | J16: =(L16*1.5)+M16 -> 16 | K16: =M16+L16 -> 16 | L16: 0 | M16: =N16*$M$7 -> 16 | N16: 16 | O16: 0
J17: =(L17*1.5)+M17 -> 0 | K17: =M17+L17 -> 0 | L17: 0 | M17: =N17*$M$7 -> 0 | N17: 0 | O17: 0
B18: UE3 | C18: GE3ECUE3 | D18: LV Majeur Anglais | E18: 39 | F18: 39 | G18: Cécile Aspart | J18: =(L18*1.5)+M18 -> 18 | K18: =M18+L18 -> 18 | L18: 0 | M18: =N18*$M$7 -> 18 | N18: 18 | O18: 0
B19: UE4 | C19: GE3ECUE4.1 | D19: PPP | G19: AUBRY | J19: =(L19*1.5)+M19 -> 2 | K19: =M19+L19 -> 2 | L19: 0 | M19: =N19*$M$7 -> 2 | N19: 2 | R19: présentation, monde de l'entreprise, se présenter, prendre contact,
G20: MCF CORTEZZI | J20: =(L20*1.5)+M20 -> 4 | K20: =M20+L20 -> 4 | L20: 0 | M20: =N20*$M$7 -> 4 | N20: 4 | R20: séance CV lettre motiv, entretien oral ?
B21: UE5 | C21: GE3ECUE5.1 | D21: LV mineure (expression ecrite) | E21: =J21 -> 18 | F21: =K21 -> 18 | G21: Cécile Aspart | J21: =(L21*1.5)+M21 -> 18 | K21: =M21+L21 -> 18 | L21: 0 | M21: =N21*$M$7 -> 18 | N21: 18 | O21: 0
C22: GE3ECUE5.2 | D22: Culture générale : Histoire 1 (Antiquité 1) | E22: =J22 -> 23 | F22: =K22 -> 18 | G22: THILLE | J22: =(L22*1.5)+M22 -> 23 | K22: =M22+L22 -> 18 | L22: 10 | M22: =N22*$M$7 -> 8 | N22: 8 | O22: 0
J23: =SUM(J9:J22) -> 319 | K23: =SUM(K9:K22) -> 265 | L23: =SUM(L9:L22) -> 108 | M23: =SUM(M9:M22) -> 157 | N23: =SUM(N9:N22) -> 157
B25: UE | C25: CODE | D25: L2 (semestre 4) | E25: TOTAL UE ETD | G25: intervenant | I25: CC | J25: heures ETD | K25: heures présentiel | L25: CM | M25: TD total | N25: TD | O25: terrain | P25: terrain | Q25: SALLE SPECIFIQUE
B26: UE6 | C26: GE4ECUE6.1 | D26: Géographie rurale | E26: 246 | F26: 212 | G26: JACQUES | J26: =(L26*1.5)+M26 -> 50 | K26: =M26+L26 -> 39 | L26: 22 | M26: =N26*$M$7 -> 17 | N26: 17 | O26: 0
C27: GE4ECUE6.2 | D27: Géographie économique, des services et du tourisme (Géographie de Mayotte) | G27: COTTEREAU | J27: =(L27*1.5)+M27 -> 33 | K27: =M27+L27 -> 22 | L27: 22
G28: COTTEREAU | J28: =(L28*1.5)+M28 -> 17 | K28: =M28+L28 -> 17 | M28: =N28*$M$7 -> 17 | N28: 17 | O28: 0 | U28: =S28-'L2'!J10-(L28*1.5) -> -17
C29: GE4ECUE6.3 | D29: Géomorphologie structurale | G29: AUBRY | J29: =(L29*1.5)+M29 -> 45 | K29: =M29+L29 -> 39 | L29: 12 | M29: =N29*$M$7 -> 27 | N29: 27 | O29: 5 | R29: sortie terrain de 5h inclue dans les TD
C30: GE4ECUE6.4 | D30: Statistiques | G30: MCF CORTEZZI | J30: =(L30*1.5)+M30 -> 26 | K30: =M30+L30 -> 26 | M30: =N30*$M$7 -> 26 | N30: =21+5 -> 26 | O30: 0 | Q30: info | R30: salle info à chaque fois ? Stat
G31: MCF CORTEZZI | J31: =(L31*1.5)+M31 -> 26 | K31: =M31+L31 -> 26 | M31: =N31*$M$7 -> 26 | N31: 26 | O31: 0 | Q31: info | R31: initiation philcarto, phildigit | U31: =34+18 -> 52
B33: UE7 | C33: GE4ECUE7.1 | D33: Label PP : Acteurs et instruments de l'aménagement et de l'urbanisme (pratique de terrain) | E33: =J33 -> 36 | F33: =K33 -> 36 | G33: MCF CORTEZZI | J33: =(L33*1.5)+M33 -> 36 | K33: =M33+L33 -> 36 | M33: =N33*$M$7 -> 36 | N33: 36 | O33: 3 | P33: x | Q33: info
R35: sortie terrain bloc cyclonique
B36: UE8 | C36: GE4UE8 | D36: LV Majeure : d'anglais | E36: 39 | F36: 39 | G36: Cécile Aspart | J36: =(L36*1.5)+M36 -> 18 | K36: =M36+L36 -> 18 | M36: =N36*$M$7 -> 18 | N36: 18 | O36: 0
B37: UE9 | C37: GE4ECUE9.3 | D37: PPP | G37: AUBRY | H37: 2 | J37: =(L37*1.5)+M37 -> 2 | K37: =M37+L37 -> 2 | M37: =N37*$M$7 -> 2 | N37: 2 | R37: séance orientation
G38: MCF CORTEZZI | J38: =(L38*1.5)+M38 -> 4 | K38: =M38+L38 -> 4 | M38: =N38*$M$7 -> 4 | N38: 4 | R38: expériences, échange, voir recherche entretiens ?
B39: UE10 | C39: GE4ECUE10.1 | D39: Culture générale : Histoire 2 (Antiquité 2) | E39: =J39 -> 29 | F39: =K39 -> 24 | G39: JACQUES | J39: =(L39*1.5)+M39 -> 29 | K39: =M39+L39 -> 24 | L39: 10 | M39: =N39*$M$7 -> 14 | N39: 14 | O39: 0
C40: GE4ECUE10.2 | D40: Culture générale : Histoire 3 (Epoque moderne et contemporaine) | E40: =J40 -> 23 | F40: =K40 -> 18 | G40: THILLE | J40: =(L40*1.5)+M40 -> 23 | K40: =M40+L40 -> 18 | L40: 10 | M40: =N40*$M$7 -> 8 | N40: 8 | O40: 0
J41: =SUM(J26:J40) -> 309 | K41: =SUM(K26:K40) -> 271 | L41: =SUM(L26:L40) -> 76 | M41: =SUM(M26:M40) -> 195 | N41: =SUM(N26:N40) -> 195 | R41: =SUM(L41:N41) -> 466

Sheet L3
A1: Géo - semestre 5 et 6 | G1: 2026-2027 | I1: L3 Géo | K1: 1 groupe de TD
E5: TOTAL UE ETD | F5: TOTAL UE prés | J5: nombre de groupe de TD | M5: 1
B6: UE | C6: CODE | D6: L3 (semestre 5) | G6: intervenant | I6: CC | J6: heures ETD | K6: heures présentiel | L6: CM | M6: TD total en salle | N6: terrain = TD | O6: SALLE SPECIFIQUE
A7: L3 | B7: UE1 | C7: GE5ECUE1.1 | D7: Géographie des pays développés | E7: =SUM(J7:J12) -> 204.5 | F7: =SUM(K7:K12) -> 162 | G7: JACQUES | J7: =(L7*1.5)+M7+N7 -> 50 | K7: =L7+M7+N7 -> 39 | L7: 22 | M7: 17 | N7: 0
C8: GE5ECUE1.2 | D8: Géomorphologie appliquée | G8: JEANSON | J8: =(L8*1.5)+M8+N8 -> 19.5 | K8: =L8+M8+N8 -> 13 | L8: 13 | N8: 0
G9: JEANSON | J9: =(L9*1.5)+M9+N9 -> 7 | M9: 7
G10: JEANSON | J10: =(L10*1.5)+M10+N10 -> 19 | K10: =L10+M10+N10 -> 19 | L10: 0 | M10: =21-7 -> 14 | N10: 5
C11: GE5ECUE1.3 | D11: Enquêtes et analyse multivariées | G11: COTTEREAU | J11: =(L11*1.5)+M11+N11 -> 59 | K11: =L11+M11+N11 -> 52 | L11: 14 | M11: 33 | N11: 5 | O11: SALLE INFO
C12: GE5ECUE1.4 | D12: Epistémologie de la géographie (Grands défis : géopolitique et culturelle) | G12: THILLE | J12: =(L12*1.5)+M12+N12 -> 50 | K12: =L12+M12+N12 -> 39 | L12: 22 | M12: 17
B13: UE2 | C13: GE5ECUE2.1 | D13: Géographie des espaces convoités et d'interface | E13: =J13+J14 -> 45 | F13: =K13+K14 -> 36 | G13: THILLE | J13: =(L13*1.5)+M13+N13 -> 27 | K13: =L13+M13+N13 -> 18 | L13: 18
G14: THILLE | J14: =(L14*1.5)+M14+N14 -> 18 | K14: =L14+M14+N14 -> 18 | M14: 18
B15: UE3 | D15: LV Majeur Anglais | E15: =J15 -> 24 | F15: =K15 -> 24 | G15: Vincent Massinon | J15: =(L15*1.5)+M15+N15 -> 24 | K15: =L15+M15+N15 -> 24 | L15: 0 | M15: 24
B16: UE4 | C16: GE5ECUE4.1 | D16: Humanité écologique : Initiation à l'écologie marine) | E16: =J17+J16 -> 18 | F16: =K17+K16 -> 18 | G16: AUBRY | J16: =(L16*1.5)+M16+N16 -> 1 | K16: =L16+M16+N16 -> 1 | M16: 1
G17: Laura Megevand | J17: =(L17*1.5)+M17+N17 -> 17 | K17: =L17+M17+N17 -> 17 | L17: 0 | M17: 13 | N17: 4
C18: GE5ECUE4.2 | D18: Culture générale : Histoire (la France Moderne) | E18: =J18 -> 31 | F18: =K18 -> 24 | G18: THILLE | J18: =(L18*1.5)+M18+N18 -> 31 | K18: =L18+M18+N18 -> 24 | L18: 14 | M18: 10
J19: =SUM(J7:J18) -> 322.5 | K19: =SUM(K7:K18) -> 264 | L19: =SUM(L7:L18) -> 103 | M19: =SUM(M7:M18) -> 154
B21: UE | C21: CODE | D21: L3 (semestre 6) | E21: TOTAL UE ETD | F21: TOTAL UE prés | G21: intervenant | I21: CC | J21: heures ETD | K21: heures présentiel | L21: CM | M21: TD total | N21: terrain | O21: SALLE SPECIFIQUE
B22: UE5 | C22: GE6ECUE 5.1 | D22: Géographie du développement | E22: =J22+J23 -> 50 | F22: =K22 -> 22 | G22: COTTEREAU | J22: =(L22*1.5)+M22+N22 -> 33 | K22: =L22+M22+N22 -> 22 | L22: 22
G23: COTTEREAU | J23: =(L23*1.5)+M23+N23 -> 17 | K23: =L23+M23+N23 -> 17 | M23: 17
C24: GE6ECUE5.2 | D24: Risques climatiques et littoraux | E24: =J24 -> 50 | F24: =K24 -> 39 | G24: LE DUFF | J24: =(L24*1.5)+M24+N24 -> 50 | K24: =L24+M24+N24 -> 39 | L24: 22 | M24: 17
C25: GE6ECUE5.3 | D25: Transports, mobilités, échanges | E25: =J25 -> 50 | F25: =K25 -> 39 | G25: LE DUFF | J25: =(L25*1.5)+M25+N25 -> 50 | K25: =L25+M25+N25 -> 39 | L25: 22 | M25: 17
C26: GE6ECUE5.4 | D26: Analyse spatiale | E26: =J26+J27 -> 28.5 | F26: =K26+K27 -> 26 | G26: JEANSON | J26: =(L26*1.5)+M26+N26 -> 7.5 | K26: =L26+M26+N26 -> 5 | L26: 5
G27: AUBRY | J27: =(L27*1.5)+M27+N27 -> 21 | K27: =L27+M27+N27 -> 21 | M27: 21
C28: GE6ECUE5.5 | D28: SIG niveau 2 | E28: =J28+J29 -> 28.5 | F28: =K28+K29 -> 26 | G28: JEANSON | J28: =(L28*1.5)+M28+N28 -> 7.5 | K28: =L28+M28+N28 -> 5 | L28: 5
G29: AUBRY | J29: =(L29*1.5)+M29+N29 -> 21 | K29: =L29+M29+N29 -> 21 | M29: 21 | O29: info
B30: UE6 | C30: GE6ECUE6.1
C31: GE6ECUE6.2 | D31: Stage et rapport de stage (1j par semaine mardi + 1 semaine) | G31: Comité Pédagogique | J31: =(L31*1.5)+M31+N31 -> 0 | K31: =L31+M31+N31 -> 0
B32: UE7 | D32: LV Majeure : d'anglais | E32: =J32 -> 24 | F32: =K32 -> 24 | G32: Vincent Massinon | J32: =(L32*1.5)+M32+N32 -> 24 | K32: =L32+M32+N32 -> 24 | M32: 24
B33: UE8 | C33: GE6ECUE8.1 | D33: Culture générale (environnements et sociétés du passé) | E33: =J33 -> 23 | F33: =K33 -> 18 | G33: THILLE | J33: =(L33*1.5)+M33+N33 -> 23 | K33: =L33+M33+N33 -> 18 | L33: 10 | M33: 8
C34: GE6ECUE8.2 | D34: De la conquête coloniale française aux indépendances: du système colonial à la décolonisation | E34: =J34 -> 29 | F34: =K34 -> 24 | G34: THILLE | J34: =(L34*1.5)+M34+N34 -> 29 | K34: =L34+M34+N34 -> 24 | L34: 10 | M34: 14
J35: =SUM(J22:J34) -> 283 | K35: =SUM(K22:K34) -> 235 | L35: =SUM(L22:L34) -> 96 | M35: =SUM(M22:M34) -> 139

Sheet Total avec CDD 12 mois
B1: Nouvelle Maquette
B2: S1 | C2: S2 | D2: S3 | E2: S4 | F2: S5 | G2: S6 | H2: Total sem impair | I2: Total sem pair | J2: TOTAL | K2: Charge admi en + suivi stage L3 | L2: TOTAL 2025-2026 | M2: service statutaire | O2: heures comp
A4: Matthieu Jeanson | C4: ='L1'!J30+'L1'!J31 -> 87 | D4: ='L2'!J12 -> 50 | F4: ='L3'!J8+'L3'!J9+'L3'!J10 -> 45.5 | G4: ='L3'!J28+'L3'!J26 -> 15 | H4: =B4+D4+F4 -> 95.5 | I4: =C4+E4+G4 -> 102 | J4: =SUM(B4:G4) -> 197.5 | K4: =7.5 -> 7.5 | L4: =J4+K4 -> 205 | M4: 192 | O4: =L4-M4 -> 13
A5: Matthieu Le Duff | B5: ='L1'!J9+'L1'!J10+'L1'!J11 -> 87 | C5: ='L1'!J43+'L1'!J42 -> 18 | D5: ='L2'!J11 -> 50 | G5: ='L3'!J25+'L3'!J24 -> 100 | H5: =B5+D5+F5 -> 137 | I5: =C5+E5+G5 -> 118 | J5: =SUM(B5:G5) -> 255 | K5: =7.5 -> 7.5 | L5: =J5+K5 -> 262.5 | M5: 192 | O5: =L5-M5 -> 70.5
A6: Aline Aubry | B6: ='L1'!J23+'L1'!J13 -> 40.5 | D6: ='L2'!J13+'L2'!J19+'L2'!J15 -> 70 | E6: ='L2'!J37+'L2'!J29 -> 47 | G6: ='L3'!J27+'L3'!J29 -> 42 | H6: =B6+D6+F6 -> 110.5 | I6: =C6+E6+G6 -> 89 | J6: =SUM(B6:G6) -> 199.5 | K6: 7.5 | L6: =J6+K6 -> 207 | M6: 192 | O6: =L6-M6 -> 15
A7: Jean Nicolas Jacques (PRAG Géo) | B7: ='L1'!J12+'L1'!J20 -> 114.75 | C7: ='L1'!J32+'L1'!J34+'L1'!J35 -> 93 | D7: ='L2'!J9+'L2'!J10 -> 50 | E7: ='L2'!J26+'L2'!J39 -> 79 | F7: ='L3'!J7 -> 50 | H7: =B7+D7+F7 -> 214.75 | I7: =C7+E7+G7 -> 172 | J7: =SUM(B7:G7) -> 386.75 | K7: =7.5+30 -> 37.5 | L7: =J7+K7 -> 424.25 | M7: 384 | O7: =L7-M7 -> 40.25
A8: Frantz Thille (PRAG Histoire) | B8: ='L1'!J25 -> 39 | C8: ='L1'!J38+'L1'!J45+'L1'!J37 -> 126.75 | D8: ='L2'!J22 -> 23 | E8: ='L2'!J40 -> 23 | F8: ='L3'!J12+'L3'!J13+'L3'!J18+'L3'!J14 -> 126 | G8: ='L3'!J33+'L3'!J34 -> 52 | H8: =B8+D8+F8 -> 188 | I8: =C8+E8+G8 -> 201.75 | J8: =SUM(B8:G8) -> 389.75 | K8: 7.5 | L8: =J8+K8 -> 397.25 | M8: 384 | O8: =L8-M8 -> 13.25
A9: Victoire Cottereau | D9: ='L2'!J14 -> 20 | E9: ='L2'!J27+'L2'!J28 -> 50 | F9: ='L3'!J11 -> 59 | G9: ='L3'!J22+'L3'!J23 -> 50 | H9: =B9+D9+F9 -> 79 | I9: =C9+E9+G9 -> 100 | J9: =SUM(B9:G9) -> 179 | K9: 37.5 | L9: =J9+K9 -> 216.5 | M9: 192 | O9: =L9-M9 -> 24.5
A10: MCF CORTEZZI | B10: 87.75 | D10: 20 | E10: 92 | H10: =B10+D10+F10 -> 107.75 | I10: =C10+E10+G10 -> 92 | J10: =SUM(B10:G10) -> 199.75 | K10: 7.5 | L10: =J10+K10 -> 207.25 | M10: 192 | O10: =L10-M10 -> 15.25
A11: ATER | B11: 66 | C11: 126 | H11: =B11+D11+F11 -> 66 | I11: =C11+E11+G11 -> 126 | J11: =SUM(B11:G11) -> 192
A12: OMAR FOUNDI Surfahati | B12: ='L1'!J22 -> 36 | C12: ='L1'!J41 -> 54 | H12: =B12+D12+F12 -> 36 | I12: =C12+E12+G12 -> 54 | J12: =SUM(B12:G12) -> 90
A13: Cécile Aspart | B13: 54 | C13: 54 | D13: ='L2'!J18 -> 18 | E13: ='L2'!J36 -> 18 | H13: =B13+D13+F13 -> 72 | I13: =C13+E13+G13 -> 72 | J13: =SUM(B13:G13) -> 144
A14: Vincent Massinon | F14: ='L3'!J15 -> 24 | G14: ='L3'!J32 -> 24 | H14: =B14+D14+F14 -> 24 | I14: =C14+E14+G14 -> 24 | J14: =SUM(B14:G14) -> 48
A15: SAID Ayad | C15: ='L1'!J40 -> 54 | H15: =B15+D15+F15 -> 0 | I15: =C15+E15+G15 -> 54 | J15: =SUM(B15:G15) -> 54
A16: MEGEVAND Laura | F16: ='L3'!J17 -> 17 | H16: =B16+D16+F16 -> 17 | I16: =C16+E16+G16 -> 0 | J16: =SUM(B16:G16) -> 17
A19: Charges admi | B19: hEq TD
A20: Parcoursup | B20: 5
A21: Stage L3 | B21: 2.5
A22: Encadrement Master | B22: 7
A23: Co-Encadrement Thèse | B23: 10
A24: Coordination Licence | B24: 60 | C24: décharge 50 % | F24: Victoire et JNJ
A25: Chef Département | B25: 80 | C25: décharge 100 %
A28: ATER | B28: S1 | C28: S2
A29: L1 S2 3 gpe TD Outils et fondements analyses territoriales (paysage) | C29: 36
A30: L1 S1 3 gpes TD paysage | B30: 30
A31: L1 S2 3 gpes TD Statistiques | C31: 90
A32: TD S1 3 gpes TD informatique | B32: 36
A33: =B33+C33 -> 192 | B33: =SUM(B29:B32) -> 66 | C33: =SUM(C29:C32) -> 126
A37: VACATAIRES | B37: S1 | C37: S2
A38: Expression écrite L1 | B38: 54 | C38: 54 | E38: Cécile Aspart | G38: Total 162h
A39: Expression écrite L2 | B39: 18 | E39: Cécile Aspart
A40: Anglais L2 | B40: 18 | C40: 18 | E40: Cécile Aspart
A41: TD S2 informatique L1 | C41: 54 | E41: SAID Ayad
A42: L3 Initiation écologie marine | B42: 17 | E42: Megevand Laura
A43: Anglais L1 | B43: 36 | C43: 54 | E43: OMAR FOUNDI Surfahati
A44: Anglais L3 | B44: 24 | C44: 24 | E44: Vincent Massinon
A45: =B45+C45 -> 209 | B45: =SUM(B41:B44) -> 77 | C45: =SUM(C41:C44) -> 132
A48: MCF eau Cortezzi | B48: S1 | C48: S2
A49: L1 Géo thématique de l'eau CM et 3 gpe TD | B49: 87.75
A50: L2 Label PP Pratique de terrain | C50: 36
A51: L2 S4 Statistiques et Carto stat | C51: 52
A52: L2 S3 Dynamique des milieux naturels | B52: 16
A53: L2 S4 PPP | C53: 4
A54: L2 S3 PPP | B54: 4
A55: =B55+C55 -> 199.75 | B55: =SUM(B49:B54) -> 107.75 | C55: =SUM(C49:C54) -> 92
